BEGIN:VCALENDAR
VERSION:2.0
PRODID:-//BOTTLECRAFT - ECPv6.15.20//NONSGML v1.0//EN
CALSCALE:GREGORIAN
METHOD:PUBLISH
X-ORIGINAL-URL:https://bottlecraft.com
X-WR-CALDESC:Events for BOTTLECRAFT
REFRESH-INTERVAL;VALUE=DURATION:PT1H
X-Robots-Tag:noindex
X-PUBLISHED-TTL:PT1H
BEGIN:VTIMEZONE
TZID:America/Los_Angeles
BEGIN:DAYLIGHT
TZOFFSETFROM:-0800
TZOFFSETTO:-0700
TZNAME:PDT
DTSTART:20230312T100000
END:DAYLIGHT
BEGIN:STANDARD
TZOFFSETFROM:-0700
TZOFFSETTO:-0800
TZNAME:PST
DTSTART:20231105T090000
END:STANDARD
BEGIN:DAYLIGHT
TZOFFSETFROM:-0800
TZOFFSETTO:-0700
TZNAME:PDT
DTSTART:20240310T100000
END:DAYLIGHT
BEGIN:STANDARD
TZOFFSETFROM:-0700
TZOFFSETTO:-0800
TZNAME:PST
DTSTART:20241103T090000
END:STANDARD
BEGIN:DAYLIGHT
TZOFFSETFROM:-0800
TZOFFSETTO:-0700
TZNAME:PDT
DTSTART:20250309T100000
END:DAYLIGHT
BEGIN:STANDARD
TZOFFSETFROM:-0700
TZOFFSETTO:-0800
TZNAME:PST
DTSTART:20251102T090000
END:STANDARD
END:VTIMEZONE
BEGIN:VEVENT
DTSTART;TZID=America/Los_Angeles:20241226T183000
DTEND;TZID=America/Los_Angeles:20241226T203000
DTSTAMP:20260419T131418
CREATED:20241101T170707Z
LAST-MODIFIED:20241101T170707Z
UID:2366-1735237800-1735245000@bottlecraft.com
SUMMARY:Trivia Night at SLO Public Market
DESCRIPTION:Join us every Thursday from 6:30 pm to 8:30 pm for Trivia Night hosted by Bottlecraft!\nWin prizes\, have fun\, and test your knowledge with friends and family. Open to all ages. Seating is first-come\, first-serve. \n\nArrive early to grab your spot.\nLog into King Trivia (instructions available at the bar).\nTrack your team’s rank and answer questions on your phone.\n\nNo themes\, just pure trivia fun each week! Don’t miss out on the excitement. See you there!
URL:https://bottlecraft.com/event/trivia-night-at-slo-public-market-11/
LOCATION:Bottlecraft San Luis Obispo\, 3845 S Higuera St\, STE 102\, San Luis Obispo\, CA\, 93401\, United States
END:VEVENT
BEGIN:VEVENT
DTSTART;TZID=America/Los_Angeles:20241219T183000
DTEND;TZID=America/Los_Angeles:20241219T203000
DTSTAMP:20260419T131418
CREATED:20241101T170633Z
LAST-MODIFIED:20241101T170633Z
UID:2365-1734633000-1734640200@bottlecraft.com
SUMMARY:Trivia Night at SLO Public Market
DESCRIPTION:Join us every Thursday from 6:30 pm to 8:30 pm for Trivia Night hosted by Bottlecraft!\nWin prizes\, have fun\, and test your knowledge with friends and family. Open to all ages. Seating is first-come\, first-serve. \n\nArrive early to grab your spot.\nLog into King Trivia (instructions available at the bar).\nTrack your team’s rank and answer questions on your phone.\n\nNo themes\, just pure trivia fun each week! Don’t miss out on the excitement. See you there!
URL:https://bottlecraft.com/event/trivia-night-at-slo-public-market-10/
LOCATION:Bottlecraft San Luis Obispo\, 3845 S Higuera St\, STE 102\, San Luis Obispo\, CA\, 93401\, United States
END:VEVENT
BEGIN:VEVENT
DTSTART;TZID=America/Los_Angeles:20241212T183000
DTEND;TZID=America/Los_Angeles:20241212T203000
DTSTAMP:20260419T131418
CREATED:20241101T170555Z
LAST-MODIFIED:20241101T170555Z
UID:2364-1734028200-1734035400@bottlecraft.com
SUMMARY:Trivia Night at SLO Public Market
DESCRIPTION:Join us every Thursday from 6:30 pm to 8:30 pm for Trivia Night hosted by Bottlecraft!\nWin prizes\, have fun\, and test your knowledge with friends and family. Open to all ages. Seating is first-come\, first-serve. \n\nArrive early to grab your spot.\nLog into King Trivia (instructions available at the bar).\nTrack your team’s rank and answer questions on your phone.\n\nNo themes\, just pure trivia fun each week! Don’t miss out on the excitement. See you there!
URL:https://bottlecraft.com/event/trivia-night-at-slo-public-market-9/
LOCATION:Bottlecraft San Luis Obispo\, 3845 S Higuera St\, STE 102\, San Luis Obispo\, CA\, 93401\, United States
END:VEVENT
BEGIN:VEVENT
DTSTART;TZID=America/Los_Angeles:20241210T180000
DTEND;TZID=America/Los_Angeles:20241210T193000
DTSTAMP:20260419T131418
CREATED:20241101T172849Z
LAST-MODIFIED:20241101T172849Z
UID:2371-1733853600-1733859000@bottlecraft.com
SUMMARY:Pairing Class w/ Venissimo - Holiday Beers & Cheese
DESCRIPTION:Ho ho ho and a bottle of beer! Or shall we say\, a night of cheer? \nWe want to share our favorite beers and cheeses that are only available during this most wonderful time of the year. Brewers love to make holiday suds and Venissimo has a few types of holiday fermented curd that we would love to share. \nCheese monger Rachel joins beer expert Gene for this delicious seasonal pairing party where you’ll savor 4 beers paired with 4 cheeses. Join us with old friends or make new ones!
URL:https://bottlecraft.com/event/pairing-class-w-venissimo-holiday-beers-cheese/
LOCATION:Bottlecraft North Park\, 3007 University Avenue\, San Diego\, CA\, 92104\, United States
END:VEVENT
BEGIN:VEVENT
DTSTART;TZID=America/Los_Angeles:20241206T160000
DTEND;TZID=America/Los_Angeles:20241206T210000
DTSTAMP:20260419T131418
CREATED:20241101T175242Z
LAST-MODIFIED:20241101T175259Z
UID:2384-1733500800-1733518800@bottlecraft.com
SUMMARY:First Friday at the Tremont Collective
DESCRIPTION:Every First Friday of the month the Tremont Collective hosts the Oceanside community for live music\, art\, food\, drinks and giveaways from 4-9pm. It’s a great place to spend an evening with friends and family. Our resident DJ – DJ Chaps One – plays from 4pm – 6pm\, followed by a band. This month we welcome the Jake Hitt trio for some lives tunes. See you there!
URL:https://bottlecraft.com/event/2384/
LOCATION:Bottlecraft Oceanside\, 602 S Tremont Street\, Oceanside\, CA\, 92054\, United States
END:VEVENT
BEGIN:VEVENT
DTSTART;TZID=America/Los_Angeles:20241206T160000
DTEND;TZID=America/Los_Angeles:20241206T180000
DTSTAMP:20260419T131418
CREATED:20241101T174213Z
LAST-MODIFIED:20241101T174213Z
UID:2381-1733500800-1733508000@bottlecraft.com
SUMMARY:Spirits Sipping Session w/ The Craft Spirits Cooperative
DESCRIPTION:The team from The Craft Spirits Cooperative joins us at the shop to sample a selection of vino. Stop by between 4pm – 6pm to try before you buy!
URL:https://bottlecraft.com/event/spirits-sipping-session-w-the-craft-spirits-cooperative-9/
LOCATION:Bottlecraft North Park\, 3007 University Avenue\, San Diego\, CA\, 92104\, United States
END:VEVENT
BEGIN:VEVENT
DTSTART;TZID=America/Los_Angeles:20241205T183000
DTEND;TZID=America/Los_Angeles:20241205T203000
DTSTAMP:20260419T131418
CREATED:20241101T170519Z
LAST-MODIFIED:20241101T170519Z
UID:2363-1733423400-1733430600@bottlecraft.com
SUMMARY:Trivia Night at SLO Public Market
DESCRIPTION:Join us every Thursday from 6:30 pm to 8:30 pm for Trivia Night hosted by Bottlecraft!\nWin prizes\, have fun\, and test your knowledge with friends and family. Open to all ages. Seating is first-come\, first-serve. \n\nArrive early to grab your spot.\nLog into King Trivia (instructions available at the bar).\nTrack your team’s rank and answer questions on your phone.\n\nNo themes\, just pure trivia fun each week! Don’t miss out on the excitement. See you there!
URL:https://bottlecraft.com/event/trivia-night-at-slo-public-market-8/
LOCATION:Bottlecraft San Luis Obispo\, 3845 S Higuera St\, STE 102\, San Luis Obispo\, CA\, 93401\, United States
END:VEVENT
BEGIN:VEVENT
DTSTART;VALUE=DATE:20241130
DTEND;VALUE=DATE:20241201
DTSTAMP:20260419T131418
CREATED:20241101T181841Z
LAST-MODIFIED:20241101T181841Z
UID:2394-1732924800-1733011199@bottlecraft.com
SUMMARY:Revelry Band Performance x Shop Small Saturday @ The Tremont Collective
DESCRIPTION:Stop by the Tremont Collective and shop small this Saturday! Check off everyone on your list by visiting all of our shops at the collective – Bottlecraft\, Shoots\, Communal Coffee\, Brixton & Atacama! We also will be joined by Revelry Band to serenade you with some tunes from 5pm – 7pm. Happy shopping!
URL:https://bottlecraft.com/event/revelry-band-performance-x-shop-small-saturday-the-tremont-collective/
LOCATION:Bottlecraft Oceanside\, 602 S Tremont Street\, Oceanside\, CA\, 92054\, United States
END:VEVENT
BEGIN:VEVENT
DTSTART;TZID=America/Los_Angeles:20241127T160000
DTEND;TZID=America/Los_Angeles:20241127T180000
DTSTAMP:20260419T131418
CREATED:20241101T173913Z
LAST-MODIFIED:20241101T173913Z
UID:2380-1732723200-1732730400@bottlecraft.com
SUMMARY:Thanksgiving Week Wine Sipping Session w/ Mission Wines
DESCRIPTION:The team from Mission Wines joins us at the shop to sample a selection of vino. Stop by between 4pm – 6pm to try before you buy! Plus\, chat with our wine experts to select the perfect bottle for your holiday festivities!
URL:https://bottlecraft.com/event/thanksgiving-week-wine-sipping-session-w-mission-wines/
LOCATION:Bottlecraft North Park\, 3007 University Avenue\, San Diego\, CA\, 92104\, United States
END:VEVENT
BEGIN:VEVENT
DTSTART;TZID=America/Los_Angeles:20241126T160000
DTEND;TZID=America/Los_Angeles:20241126T180000
DTSTAMP:20260419T131418
CREATED:20241101T173814Z
LAST-MODIFIED:20241101T173814Z
UID:2379-1732636800-1732644000@bottlecraft.com
SUMMARY:Thanksgiving Week Wine Sipping Session w/ Revel Wines
DESCRIPTION:The team from Revel Wines joins us at the shop to sample a selection of vino. Stop by between 4pm – 6pm to try before you buy! Plus\, chat with our wine experts to select the perfect bottle for your holiday festivities!
URL:https://bottlecraft.com/event/thanksgiving-week-wine-sipping-session-w-revel-wines/
LOCATION:Bottlecraft North Park\, 3007 University Avenue\, San Diego\, CA\, 92104\, United States
END:VEVENT
BEGIN:VEVENT
DTSTART;TZID=America/Los_Angeles:20241125T160000
DTEND;TZID=America/Los_Angeles:20241125T180000
DTSTAMP:20260419T131418
CREATED:20241101T173725Z
LAST-MODIFIED:20241101T173725Z
UID:2378-1732550400-1732557600@bottlecraft.com
SUMMARY:Thanksgiving Week Wine Sipping Session w/ Massanois
DESCRIPTION:The team from Massanois joins us at the shop to sample a selection of vino. Stop by between 4pm – 6pm to try before you buy! Plus\, chat with our wine experts to select the perfect bottle for your holiday festivities!
URL:https://bottlecraft.com/event/thanksgiving-week-wine-sipping-session-w-massanois/
LOCATION:Bottlecraft North Park\, 3007 University Avenue\, San Diego\, CA\, 92104\, United States
END:VEVENT
BEGIN:VEVENT
DTSTART;TZID=America/Los_Angeles:20241123T110000
DTEND;TZID=America/Los_Angeles:20241123T170000
DTSTAMP:20260419T131418
CREATED:20241101T181614Z
LAST-MODIFIED:20241101T181614Z
UID:2392-1732359600-1732381200@bottlecraft.com
SUMMARY:Maker's Market at the Tremont Collective in Collaboration with Green Cheek
DESCRIPTION:We partnered up with the folks at SD Maker’s Arcade for another fabulous holiday market! And this year we are joined by our friends at Green Cheek to take this shopping spree to the next level! There will be 75+ local vendors\, food and drink specials\, live music\, giveaways\, and more! You won’t want to miss this.
URL:https://bottlecraft.com/event/makers-market-at-the-tremont-collective-in-collaboration-with-green-cheek/
LOCATION:Bottlecraft Oceanside\, 602 S Tremont Street\, Oceanside\, CA\, 92054\, United States
END:VEVENT
BEGIN:VEVENT
DTSTART;TZID=America/Los_Angeles:20241121T183000
DTEND;TZID=America/Los_Angeles:20241121T203000
DTSTAMP:20260419T131418
CREATED:20241101T170435Z
LAST-MODIFIED:20241101T170435Z
UID:2362-1732213800-1732221000@bottlecraft.com
SUMMARY:Trivia Night at SLO Public Market
DESCRIPTION:Join us every Thursday from 6:30 pm to 8:30 pm for Trivia Night hosted by Bottlecraft!\nWin prizes\, have fun\, and test your knowledge with friends and family. Open to all ages. Seating is first-come\, first-serve. \n\nArrive early to grab your spot.\nLog into King Trivia (instructions available at the bar).\nTrack your team’s rank and answer questions on your phone.\n\nNo themes\, just pure trivia fun each week! Don’t miss out on the excitement. See you there!
URL:https://bottlecraft.com/event/trivia-night-at-slo-public-market-7/
LOCATION:Bottlecraft San Luis Obispo\, 3845 S Higuera St\, STE 102\, San Luis Obispo\, CA\, 93401\, United States
END:VEVENT
BEGIN:VEVENT
DTSTART;TZID=America/Los_Angeles:20241121T160000
DTEND;TZID=America/Los_Angeles:20241121T180000
DTSTAMP:20260419T131418
CREATED:20241101T173403Z
LAST-MODIFIED:20241101T173403Z
UID:2377-1732204800-1732212000@bottlecraft.com
SUMMARY:Spirits Sipping Session w/ Oliver McCrum
DESCRIPTION:The team from Oliver McCrum joins us at the shop to sample a selection of spirits. Stop by between 4pm – 6pm to try before you buy!
URL:https://bottlecraft.com/event/spirits-sipping-session-w-oliver-mccrum-3/
LOCATION:Bottlecraft North Park\, 3007 University Avenue\, San Diego\, CA\, 92104\, United States
END:VEVENT
BEGIN:VEVENT
DTSTART;TZID=America/Los_Angeles:20241120T170000
DTEND;TZID=America/Los_Angeles:20241120T210000
DTSTAMP:20260419T131418
CREATED:20241101T181308Z
LAST-MODIFIED:20241101T181322Z
UID:2391-1732122000-1732136400@bottlecraft.com
SUMMARY:Ian & Gene's 10 Year Anniversary Celebration
DESCRIPTION:Two colleagues\, hitherto strangers\, hired on the same day at Bottlecraft. Two friends united by beer. Two firms – Moonlight and Bottlecraft – sharing a devotion for lagers. What a decade it has been! Come celebrate 2 of our favorites as we raise a glass to both Ian and Gene for sticking with us for 10 years! To commemorate the occasion\, our friends from Moonlight brewed up a special batch of beer that we will be sharing with everyone. More details to come\, but for now\, save the date and we will see you at the celebration!
URL:https://bottlecraft.com/event/ian-genes-10-year-anniversary-celebration/
LOCATION:Bottlecraft Little Italy\, 2252 India Street\, San Diego\, CA\, 92101\, United States
END:VEVENT
BEGIN:VEVENT
DTSTART;TZID=America/Los_Angeles:20241117T140000
DTEND;TZID=America/Los_Angeles:20241117T200000
DTSTAMP:20260419T131418
CREATED:20241101T180606Z
LAST-MODIFIED:20241101T180606Z
UID:2387-1731852000-1731873600@bottlecraft.com
SUMMARY:Sunday Sessions DJ Pop Up at The Tremont Collective
DESCRIPTION:We are hosting a trio of DJs to serenade you with some groovy tunes all afternoon! Grab your friends and family and enjoy a couple cold ones out on the patio!
URL:https://bottlecraft.com/event/sunday-sessions-dj-pop-up-at-the-tremont-collective/
LOCATION:Bottlecraft Oceanside\, 602 S Tremont Street\, Oceanside\, CA\, 92054\, United States
END:VEVENT
BEGIN:VEVENT
DTSTART;TZID=America/Los_Angeles:20241115T170000
DTEND;TZID=America/Los_Angeles:20241115T190000
DTSTAMP:20260419T131418
CREATED:20241101T180828Z
LAST-MODIFIED:20241101T180828Z
UID:2390-1731690000-1731697200@bottlecraft.com
SUMMARY:Beer Sipping Session w/ Weihenstephan\, Bitburger & Gaffel Kolsch
DESCRIPTION:The team from Total Beverage Solution joins us at the shop to sample a selection of beers. Stop by between 4pm – 6pm to try before you buy and grab a pint while you’re at it!
URL:https://bottlecraft.com/event/beer-sipping-session-w-weihenstephan-bitburger-gaffel-kolsch/
LOCATION:Bottlecraft Little Italy\, 2252 India Street\, San Diego\, CA\, 92101\, United States
END:VEVENT
BEGIN:VEVENT
DTSTART;TZID=America/Los_Angeles:20241114T183000
DTEND;TZID=America/Los_Angeles:20241114T203000
DTSTAMP:20260419T131418
CREATED:20241101T170400Z
LAST-MODIFIED:20241101T170400Z
UID:2361-1731609000-1731616200@bottlecraft.com
SUMMARY:Trivia Night at SLO Public Market
DESCRIPTION:Join us every Thursday from 6:30 pm to 8:30 pm for Trivia Night hosted by Bottlecraft!\nWin prizes\, have fun\, and test your knowledge with friends and family. Open to all ages. Seating is first-come\, first-serve. \n\nArrive early to grab your spot.\nLog into King Trivia (instructions available at the bar).\nTrack your team’s rank and answer questions on your phone.\n\nNo themes\, just pure trivia fun each week! Don’t miss out on the excitement. See you there!
URL:https://bottlecraft.com/event/trivia-night-at-slo-public-market-6/
LOCATION:Bottlecraft San Luis Obispo\, 3845 S Higuera St\, STE 102\, San Luis Obispo\, CA\, 93401\, United States
END:VEVENT
BEGIN:VEVENT
DTSTART;TZID=America/Los_Angeles:20241112T180000
DTEND;TZID=America/Los_Angeles:20241112T193000
DTSTAMP:20260419T131418
CREATED:20241101T171141Z
LAST-MODIFIED:20241108T224918Z
UID:2370-1731434400-1731439800@bottlecraft.com
SUMMARY:Pairing Class w/ Venissimo: Spritzes & Cheese - Yes Please!
DESCRIPTION:The Aperol Spritz has taken the world by storm. But are there other spritz options? \nCome find out at this fun and casual tasting where spirit connoisseur Gene joins certified cheese monger Rachel for a tasting of four cheeses paired perfectly with four spectacular spritzes. \nYou’ll learn some history about the spritz\, plus some helpful hints on how to pair various cheeses with various spritz flavors. Gain some knowledge and hopefully try something extraordinary. \nPlease join us for this hit tasting in hip North Park with old friends or new. \nTickets Here!
URL:https://bottlecraft.com/event/pairing-class-w-venissimo-spritzes-cheese-yes-please/
LOCATION:Bottlecraft North Park\, 3007 University Avenue\, San Diego\, CA\, 92104\, United States
END:VEVENT
BEGIN:VEVENT
DTSTART;TZID=America/Los_Angeles:20241108T170000
DTEND;TZID=America/Los_Angeles:20241108T200000
DTSTAMP:20260419T131418
CREATED:20241101T180503Z
LAST-MODIFIED:20241101T180503Z
UID:2386-1731085200-1731096000@bottlecraft.com
SUMMARY:Topa Topa x Craft Coast Collaboration
DESCRIPTION:SD Beer Week is upon us and we have a special tap takeover featuring Topa Topa & Craft Coast! We will have a few beers on draft from each space as well as their recent collab release. Stop in for a pint or 3!
URL:https://bottlecraft.com/event/topa-topa-x-craft-coast-collaboration/
LOCATION:Bottlecraft Oceanside\, 602 S Tremont Street\, Oceanside\, CA\, 92054\, United States
END:VEVENT
BEGIN:VEVENT
DTSTART;TZID=America/Los_Angeles:20241108T160000
DTEND;TZID=America/Los_Angeles:20241108T180000
DTSTAMP:20260419T131418
CREATED:20241101T180258Z
LAST-MODIFIED:20241101T180258Z
UID:2385-1731081600-1731088800@bottlecraft.com
SUMMARY:Spirits Sipping Session w/ The Craft Spirits Cooperative
DESCRIPTION:The team from The Craft Spirits Cooperative joins us at the shop to sample a selection of vino. Stop by between 4pm – 6pm to try before you buy!
URL:https://bottlecraft.com/event/spirits-sipping-session-w-the-craft-spirits-cooperative-10/
LOCATION:Bottlecraft Little Italy\, 2252 India Street\, San Diego\, CA\, 92101\, United States
END:VEVENT
BEGIN:VEVENT
DTSTART;TZID=America/Los_Angeles:20241108T160000
DTEND;TZID=America/Los_Angeles:20241108T180000
DTSTAMP:20260419T131418
CREATED:20241101T173238Z
LAST-MODIFIED:20241101T173238Z
UID:2376-1731081600-1731088800@bottlecraft.com
SUMMARY:Wine Sipping Session w/ Estate Wines
DESCRIPTION:The team from Estate Wines joins us at the shop to sample a selection of vino. Stop by between 4pm – 6pm to try before you buy!
URL:https://bottlecraft.com/event/wine-sipping-session-w-estate-wines/
LOCATION:Bottlecraft North Park\, 3007 University Avenue\, San Diego\, CA\, 92104\, United States
END:VEVENT
BEGIN:VEVENT
DTSTART;TZID=America/Los_Angeles:20241107T183000
DTEND;TZID=America/Los_Angeles:20241107T203000
DTSTAMP:20260419T131418
CREATED:20241101T170321Z
LAST-MODIFIED:20241101T170321Z
UID:2360-1731004200-1731011400@bottlecraft.com
SUMMARY:Trivia Night at SLO Public Market
DESCRIPTION:Join us every Thursday from 6:30 pm to 8:30 pm for Trivia Night hosted by Bottlecraft!\nWin prizes\, have fun\, and test your knowledge with friends and family. Open to all ages. Seating is first-come\, first-serve. \n\nArrive early to grab your spot.\nLog into King Trivia (instructions available at the bar).\nTrack your team’s rank and answer questions on your phone.\n\nNo themes\, just pure trivia fun each week! Don’t miss out on the excitement. See you there!
URL:https://bottlecraft.com/event/trivia-night-at-slo-public-market-5/
LOCATION:Bottlecraft San Luis Obispo\, 3845 S Higuera St\, STE 102\, San Luis Obispo\, CA\, 93401\, United States
END:VEVENT
BEGIN:VEVENT
DTSTART;TZID=America/Los_Angeles:20241107T160000
DTEND;TZID=America/Los_Angeles:20241107T180000
DTSTAMP:20260419T131418
CREATED:20241101T173143Z
LAST-MODIFIED:20241101T173143Z
UID:2375-1730995200-1731002400@bottlecraft.com
SUMMARY:Spirits Sipping Session w/ Mommenpop
DESCRIPTION:The team from Mommenpop joins us at the shop to sample a selection of spirits. Stop by between 4pm – 6pm to try before you buy!
URL:https://bottlecraft.com/event/spirits-sipping-session-w-mommenpop/
LOCATION:Bottlecraft North Park\, 3007 University Avenue\, San Diego\, CA\, 92104\, United States
END:VEVENT
BEGIN:VEVENT
DTSTART;TZID=America/Los_Angeles:20241101T160000
DTEND;TZID=America/Los_Angeles:20241101T210000
DTSTAMP:20260419T131418
CREATED:20241101T174929Z
LAST-MODIFIED:20241101T175000Z
UID:2382-1730476800-1730494800@bottlecraft.com
SUMMARY:First Friday at the Tremont Collective
DESCRIPTION:Every First Friday of the month the Tremont Collective hosts the Oceanside community for live music\, art\, food\, drinks and giveaways from 4-9pm. It’s a great place to spend an evening with friends and family. Our resident DJ – DJ Chaps One – plays from 4pm – 6pm\, followed by a band. This month we welcome Pocket Change (@pocketchangemusica) for some live tunes as well as Mundnglass (@mudnglass) with a local artist pop up. See you there!
URL:https://bottlecraft.com/event/first-friday-at-the-tremont-collective/
LOCATION:Bottlecraft Oceanside\, 602 S Tremont Street\, Oceanside\, CA\, 92054\, United States
END:VEVENT
BEGIN:VEVENT
DTSTART;TZID=America/Los_Angeles:20241101T160000
DTEND;TZID=America/Los_Angeles:20241101T180000
DTSTAMP:20260419T131418
CREATED:20241101T173100Z
LAST-MODIFIED:20241101T173100Z
UID:2374-1730476800-1730484000@bottlecraft.com
SUMMARY:Spirits Sipping Session w/ Nomadic
DESCRIPTION:The team from Nomadic joins us at the shop to sample a selection of spirits. Stop by between 4pm – 6pm to try before you buy!
URL:https://bottlecraft.com/event/spirits-sipping-session-w-nomadic/
LOCATION:Bottlecraft North Park\, 3007 University Avenue\, San Diego\, CA\, 92104\, United States
END:VEVENT
BEGIN:VEVENT
DTSTART;TZID=America/Los_Angeles:20241101T160000
DTEND;TZID=America/Los_Angeles:20241101T180000
DTSTAMP:20260419T131418
CREATED:20240927T203758Z
LAST-MODIFIED:20240927T203758Z
UID:2345-1730476800-1730484000@bottlecraft.com
SUMMARY:Beer Sipping Session with Pure Project
DESCRIPTION:The team from Pure Project joins us at the shop to sample a selection of beers. Stop by between 4pm – 6pm to try before you buy and grab a pint while you’re at it!
URL:https://bottlecraft.com/event/beer-sipping-session-with-pure-project/
LOCATION:Bottlecraft Little Italy\, 2252 India Street\, San Diego\, CA\, 92101\, United States
END:VEVENT
BEGIN:VEVENT
DTSTART;TZID=America/Los_Angeles:20241031T183000
DTEND;TZID=America/Los_Angeles:20241031T203000
DTSTAMP:20260419T131418
CREATED:20240927T205847Z
LAST-MODIFIED:20240927T205847Z
UID:2352-1730399400-1730406600@bottlecraft.com
SUMMARY:Trivia Night at SLO Public Market
DESCRIPTION:Join us every Thursday from 6:30 pm to 8:30 pm for Trivia Night hosted by Bottlecraft!\nWin prizes\, have fun\, and test your knowledge with friends and family. Open to all ages. Seating is first-come\, first-serve. \n\nArrive early to grab your spot.\nLog into King Trivia (instructions available at the bar).\nTrack your team’s rank and answer questions on your phone.\n\nNo themes\, just pure trivia fun each week! Don’t miss out on the excitement. See you there!
URL:https://bottlecraft.com/event/trivia-night-at-slo-public-market-4/
LOCATION:Bottlecraft San Luis Obispo\, 3845 S Higuera St\, STE 102\, San Luis Obispo\, CA\, 93401\, United States
END:VEVENT
BEGIN:VEVENT
DTSTART;TZID=America/Los_Angeles:20241029T180000
DTEND;TZID=America/Los_Angeles:20241029T193000
DTSTAMP:20260419T131418
CREATED:20240927T203623Z
LAST-MODIFIED:20240927T203623Z
UID:2344-1730224800-1730230200@bottlecraft.com
SUMMARY:Pairing Class with Venissimo - Autumn Cider & Cheese
DESCRIPTION:What makes a cider a cider? Are they all made out of apples? And how do you distinguish good ones from bad ones? Why are they so good with cheese? \nCome find out at this casual and seasonal pairing party and learn where this German proverb came from (hint: has to do with apples): \n“Apple pie without some cheese is like a kiss without a squeeze.” \nJoin monger extraordinaire Rachel and cider connoisseur Gene on a journey of discovery and tongue-tinging joy as you enjoy 4 ciders alongside 4 perfectly paired autumn cheeses. Learn a little history\, have a lot of fun\, and enjoy your time at San Diego’s premier bottle shop. Tickets available at the link below.
URL:https://bottlecraft.com/event/pairing-class-with-venissimo-autumn-cider-cheese/
LOCATION:Bottlecraft North Park\, 3007 University Avenue\, San Diego\, CA\, 92104\, United States
END:VEVENT
BEGIN:VEVENT
DTSTART;TZID=America/Los_Angeles:20241025T160000
DTEND;TZID=America/Los_Angeles:20241025T180000
DTSTAMP:20260419T131418
CREATED:20240927T203432Z
LAST-MODIFIED:20240927T203432Z
UID:2343-1729872000-1729879200@bottlecraft.com
SUMMARY:Wine Sipping Session w/ Nomadic
DESCRIPTION:The team from Nomadic joins us at the shop to sample a selection of wines. Stop by between 4pm – 6pm to try before you buy!
URL:https://bottlecraft.com/event/wine-sipping-session-w-nomadic/
LOCATION:Bottlecraft North Park\, 3007 University Avenue\, San Diego\, CA\, 92104\, United States
END:VEVENT
END:VCALENDAR